BEGIN:VCALENDAR
VERSION:2.0
PRODID:https://walddoerfer-sv.de/
BEGIN:VTIMEZONE
TZID:Europe/Berlin
X-LIC-LOCATION:Europe/Berlin
BEGIN:DAYLIGHT
TZOFFSETFROM:+0100
TZOFFSETTO:+0200
TZNAME:CEST
DTSTART:19700329T020000
RRULE:FREQ=YEARLY;BYDAY=-1SU;BYMONTH=3
END:DAYLIGHT
BEGIN:STANDARD
TZOFFSETFROM:+0200
TZOFFSETTO:+0100
TZNAME:CET
DTSTART:19701025T030000
RRULE:FREQ=YEARLY;BYDAY=-1SU;BYMONTH=10
END:STANDARD
END:VTIMEZONE
BEGIN:VEVENT
LOCATION:
UID:434ed3e393fbba80daa6ace542469eee@walddoerfer-sv.de
SUMMARY:Regionalliga Nord: Hannover 96 1.Frauen - Walddörfer SV 1.Frauen
DESCRIPTION:1.Spieltag
CLASS:PUBLIC
DTSTART;TZID=Europe/Berlin:20190818T140000
DTEND;TZID=Europe/Berlin:20190818T160000
DTSTAMP:20190714T171757
END:VEVENT
END:VCALENDAR