BEGIN:VCALENDAR
VERSION:2.0
PRODID:https://walddoerfer-sv.de/
BEGIN:VTIMEZONE
TZID:Europe/Berlin
X-LIC-LOCATION:Europe/Berlin
BEGIN:DAYLIGHT
TZOFFSETFROM:+0100
TZOFFSETTO:+0200
TZNAME:CEST
DTSTART:19700329T020000
RRULE:FREQ=YEARLY;BYDAY=-1SU;BYMONTH=3
END:DAYLIGHT
BEGIN:STANDARD
TZOFFSETFROM:+0200
TZOFFSETTO:+0100
TZNAME:CET
DTSTART:19701025T030000
RRULE:FREQ=YEARLY;BYDAY=-1SU;BYMONTH=10
END:STANDARD
END:VTIMEZONE
BEGIN:VEVENT
LOCATION:Rasenplatz, Schäferkampsweg A-Platz, Schäferkampsweg 32, 24558 Henstedt-Ulzburg
UID:d3ffb63b428169a1a1be575b1ea48607@walddoerfer-sv.de
SUMMARY:Regionalliga Nord:  SV Henstedt-Ulzburg 1.Frauen - Walddörfer SV 1.Frauen
DESCRIPTION:
CLASS:PUBLIC
DTSTART;TZID=Europe/Berlin:20191117T140000
DTEND;TZID=Europe/Berlin:20191117T160000
DTSTAMP:20191102T133502
END:VEVENT
END:VCALENDAR