BEGIN:VCALENDAR
VERSION:2.0
PRODID:https://walddoerfer-sv.de/
BEGIN:VTIMEZONE
TZID:Europe/Berlin
X-LIC-LOCATION:Europe/Berlin
BEGIN:DAYLIGHT
TZOFFSETFROM:+0100
TZOFFSETTO:+0200
TZNAME:CEST
DTSTART:19700329T020000
RRULE:FREQ=YEARLY;BYDAY=-1SU;BYMONTH=3
END:DAYLIGHT
BEGIN:STANDARD
TZOFFSETFROM:+0200
TZOFFSETTO:+0100
TZNAME:CET
DTSTART:19701025T030000
RRULE:FREQ=YEARLY;BYDAY=-1SU;BYMONTH=10
END:STANDARD
END:VTIMEZONE
BEGIN:VEVENT
LOCATION:Rasenplatz, Teglinger Hauptstr., Platz A, Teglinger Hauptstr. 2a, 49716 Meppen
UID:fc310732dcabab48e5b76ef0608b3d6b@walddoerfer-sv.de
SUMMARY:Regionalliga Nord: SV Meppen 2.Frauen - Walddörfer 1.Frauen
DESCRIPTION:
CLASS:PUBLIC
DTSTART;TZID=Europe/Berlin:20190915T130000
DTEND;TZID=Europe/Berlin:20190915T150000
DTSTAMP:20190906T173142
END:VEVENT
END:VCALENDAR