BEGIN:VCALENDAR
VERSION:2.0
PRODID:https://walddoerfer-sv.de/
BEGIN:VTIMEZONE
TZID:Europe/Berlin
X-LIC-LOCATION:Europe/Berlin
BEGIN:DAYLIGHT
TZOFFSETFROM:+0100
TZOFFSETTO:+0200
TZNAME:CEST
DTSTART:19700329T020000
RRULE:FREQ=YEARLY;BYDAY=-1SU;BYMONTH=3
END:DAYLIGHT
BEGIN:STANDARD
TZOFFSETFROM:+0200
TZOFFSETTO:+0100
TZNAME:CET
DTSTART:19701025T030000
RRULE:FREQ=YEARLY;BYDAY=-1SU;BYMONTH=10
END:STANDARD
END:VTIMEZONE
BEGIN:VEVENT
LOCATION:Rasenplatz, Hauptplatz, Helmut-Stockmeier-Str. 3, 49086 Osnabrück
UID:517fa1bda3b3b5de5cc969558e75fdb1@walddoerfer-sv.de
SUMMARY:Regionalliga Nord:  TSG 07 Burg Gretesch 1.Frauen - Walddörfer SV 1.Frauen
DESCRIPTION:
CLASS:PUBLIC
DTSTART;TZID=Europe/Berlin:20191208T150000
DTEND;TZID=Europe/Berlin:20191208T170000
DTSTAMP:20191116T144825
END:VEVENT
END:VCALENDAR