BEGIN:VCALENDAR
VERSION:2.0
PRODID:https://walddoerfer-sv.de/
BEGIN:VTIMEZONE
TZID:Europe/Berlin
X-LIC-LOCATION:Europe/Berlin
BEGIN:DAYLIGHT
TZOFFSETFROM:+0100
TZOFFSETTO:+0200
TZNAME:CEST
DTSTART:19700329T020000
RRULE:FREQ=YEARLY;BYDAY=-1SU;BYMONTH=3
END:DAYLIGHT
BEGIN:STANDARD
TZOFFSETFROM:+0200
TZOFFSETTO:+0100
TZNAME:CET
DTSTART:19701025T030000
RRULE:FREQ=YEARLY;BYDAY=-1SU;BYMONTH=10
END:STANDARD
END:VTIMEZONE
BEGIN:VEVENT
LOCATION:Rasenplatz, Jesteburg, Platz 2, Am alten Moor 14, 21266 Jesteburg
UID:13ca3a190c30fec09906c206852655d7@walddoerfer-sv.de
SUMMARY:Regionalliga Nord:   VfL Jesteburg 1.Frauen - Walddörfer SV 1.Frauen
DESCRIPTION:
CLASS:PUBLIC
DTSTART;TZID=Europe/Berlin:20191110T140000
DTEND;TZID=Europe/Berlin:20191110T160000
DTSTAMP:20191102T133348
END:VEVENT
END:VCALENDAR