BEGIN:VCALENDAR
VERSION:2.0
PRODID:https://walddoerfer-sv.de/
BEGIN:VTIMEZONE
TZID:Europe/Berlin
X-LIC-LOCATION:Europe/Berlin
BEGIN:DAYLIGHT
TZOFFSETFROM:+0100
TZOFFSETTO:+0200
TZNAME:CEST
DTSTART:19700329T020000
RRULE:FREQ=YEARLY;BYDAY=-1SU;BYMONTH=3
END:DAYLIGHT
BEGIN:STANDARD
TZOFFSETFROM:+0200
TZOFFSETTO:+0100
TZNAME:CET
DTSTART:19701025T030000
RRULE:FREQ=YEARLY;BYDAY=-1SU;BYMONTH=10
END:STANDARD
END:VTIMEZONE
BEGIN:VEVENT
LOCATION:Kunstrasenplatz, Stad. Allhorn
UID:f735a6481517ad13e2dab6ea88e8ebc2@walddoerfer-sv.de
SUMMARY:Regionalliga Nord:  Walddörfer SV 1.Frauen - TSG 07 Burg Gretesch 1.Frauen
DESCRIPTION:
CLASS:PUBLIC
DTSTART;TZID=Europe/Berlin:20211114T140000
DTEND;TZID=Europe/Berlin:20211114T160000
DTSTAMP:20211031T171653
END:VEVENT
END:VCALENDAR