BEGIN:VCALENDAR
VERSION:2.0
PRODID:https://walddoerfer-sv.de/
BEGIN:VTIMEZONE
TZID:Europe/Berlin
X-LIC-LOCATION:Europe/Berlin
BEGIN:DAYLIGHT
TZOFFSETFROM:+0100
TZOFFSETTO:+0200
TZNAME:CEST
DTSTART:19700329T020000
RRULE:FREQ=YEARLY;BYDAY=-1SU;BYMONTH=3
END:DAYLIGHT
BEGIN:STANDARD
TZOFFSETFROM:+0200
TZOFFSETTO:+0100
TZNAME:CET
DTSTART:19701025T030000
RRULE:FREQ=YEARLY;BYDAY=-1SU;BYMONTH=10
END:STANDARD
END:VTIMEZONE
BEGIN:VEVENT
LOCATION:Kunstrasenplatz, Stad. Allhorn
UID:15d35904533c4de064d4686c6b6d3437@walddoerfer-sv.de
SUMMARY:Regionalliga Nord:  Walddörfer SV 1.Frauen - VfL Jesteburg 1.Frauen
DESCRIPTION:2.Spieltag
CLASS:PUBLIC
DTSTART;TZID=Europe/Berlin:20211003T140000
DTEND;TZID=Europe/Berlin:20211003T160000
DTSTAMP:20210921T125342
END:VEVENT
END:VCALENDAR