BEGIN:VCALENDAR
VERSION:2.0
PRODID:https://walddoerfer-sv.de/
BEGIN:VTIMEZONE
TZID:Europe/Berlin
X-LIC-LOCATION:Europe/Berlin
BEGIN:DAYLIGHT
TZOFFSETFROM:+0100
TZOFFSETTO:+0200
TZNAME:CEST
DTSTART:19700329T020000
RRULE:FREQ=YEARLY;BYDAY=-1SU;BYMONTH=3
END:DAYLIGHT
BEGIN:STANDARD
TZOFFSETFROM:+0200
TZOFFSETTO:+0100
TZNAME:CET
DTSTART:19701025T030000
RRULE:FREQ=YEARLY;BYDAY=-1SU;BYMONTH=10
END:STANDARD
END:VTIMEZONE
BEGIN:VEVENT
LOCATION:Allhorn Stadion
UID:e16fdf76007615f27b913c81a7a1e694@walddoerfer-sv.de
SUMMARY:Sparkasse Holstein Cup 2024 - Jugend-Fussball-Turnier
DESCRIPTION:
CLASS:PUBLIC
DTSTART;TZID=Europe/Berlin:20240713T093000
DTEND;TZID=Europe/Berlin:20240714T173000
DTSTAMP:20240510T171111
END:VEVENT
END:VCALENDAR