BEGIN:VCALENDAR
VERSION:2.0
PRODID:https://walddoerfer-sv.de/
BEGIN:VTIMEZONE
TZID:Europe/Berlin
X-LIC-LOCATION:Europe/Berlin
BEGIN:DAYLIGHT
TZOFFSETFROM:+0100
TZOFFSETTO:+0200
TZNAME:CEST
DTSTART:19700329T020000
RRULE:FREQ=YEARLY;BYDAY=-1SU;BYMONTH=3
END:DAYLIGHT
BEGIN:STANDARD
TZOFFSETFROM:+0200
TZOFFSETTO:+0100
TZNAME:CET
DTSTART:19701025T030000
RRULE:FREQ=YEARLY;BYDAY=-1SU;BYMONTH=10
END:STANDARD
END:VTIMEZONE
BEGIN:VEVENT
LOCATION:Allhorn Stadion
UID:c3cedf3b64eea47a5e350c9bb2a4f127@walddoerfer-sv.de
SUMMARY:Starke Mädchen - Starke Frauen, Tag des Mädchen- und Frauenfussballs im Walddörfer SV
DESCRIPTION:
CLASS:PUBLIC
DTSTART;TZID=Europe/Berlin:20180928T160000
DTEND;TZID=Europe/Berlin:20180928T193000
DTSTAMP:20180910T135327
END:VEVENT
END:VCALENDAR