BEGIN:VCALENDAR
VERSION:2.0
PRODID:https://walddoerfer-sv.de/
BEGIN:VTIMEZONE
TZID:Europe/Berlin
X-LIC-LOCATION:Europe/Berlin
BEGIN:DAYLIGHT
TZOFFSETFROM:+0100
TZOFFSETTO:+0200
TZNAME:CEST
DTSTART:19700329T020000
RRULE:FREQ=YEARLY;BYDAY=-1SU;BYMONTH=3
END:DAYLIGHT
BEGIN:STANDARD
TZOFFSETFROM:+0200
TZOFFSETTO:+0100
TZNAME:CET
DTSTART:19701025T030000
RRULE:FREQ=YEARLY;BYDAY=-1SU;BYMONTH=10
END:STANDARD
END:VTIMEZONE
BEGIN:VEVENT
LOCATION:Sportplatz Allhorn
UID:f5cb71882dcb84af58df3deedbb5500b@walddoerfer-sv.de
SUMMARY:Tag des Mädchenfußballs beim Walddörfer SV
DESCRIPTION:Am 1. Mai wird der Walddörfer SV den seit einigen Jahren vom DFB geförderten &quot; Tag des Mädchenfußballs&quot; ausrichten. Um 14.00 erwartet der Verein an diesem Tag alle interessierten und fußballbegeisterten Mädchen, die bislang noch nicht den Zugang zum Vereinsfußball gefunden haben, zu einer Art &quot;Tag der offenen Tür&quot; auf dem Sportplatz Allhorn, Ahrensburger Weg 28.
CLASS:PUBLIC
DTSTART;TZID=Europe/Berlin:20170501T140000
DTEND;TZID=Europe/Berlin:20170501T170000
DTSTAMP:20170410T154316
END:VEVENT
END:VCALENDAR