BEGIN:VCALENDAR
VERSION:2.0
PRODID:https://walddoerfer-sv.de/
BEGIN:VTIMEZONE
TZID:Europe/Berlin
X-LIC-LOCATION:Europe/Berlin
BEGIN:DAYLIGHT
TZOFFSETFROM:+0100
TZOFFSETTO:+0200
TZNAME:CEST
DTSTART:19700329T020000
RRULE:FREQ=YEARLY;BYDAY=-1SU;BYMONTH=3
END:DAYLIGHT
BEGIN:STANDARD
TZOFFSETFROM:+0200
TZOFFSETTO:+0100
TZNAME:CET
DTSTART:19701025T030000
RRULE:FREQ=YEARLY;BYDAY=-1SU;BYMONTH=10
END:STANDARD
END:VTIMEZONE
BEGIN:VEVENT
LOCATION:Rasenplatz, HFV-Sportschule (Rasen), Jenfelder Allee 70 A - C, 22043 Hamburg
UID:88ee47478ac4cad91b42e95dcf403590@walddoerfer-sv.de
SUMMARY:Testspiel: Hamburger SV U16 Juniorinnen - Walddörfer 1.Frauen
DESCRIPTION:
CLASS:PUBLIC
DTSTART;TZID=Europe/Berlin:20200219T190000
DTEND;TZID=Europe/Berlin:20200219T210000
DTSTAMP:20200126T213612
END:VEVENT
END:VCALENDAR