BEGIN:VCALENDAR
VERSION:2.0
PRODID:https://walddoerfer-sv.de/
BEGIN:VTIMEZONE
TZID:Europe/Berlin
X-LIC-LOCATION:Europe/Berlin
BEGIN:DAYLIGHT
TZOFFSETFROM:+0100
TZOFFSETTO:+0200
TZNAME:CEST
DTSTART:19700329T020000
RRULE:FREQ=YEARLY;BYDAY=-1SU;BYMONTH=3
END:DAYLIGHT
BEGIN:STANDARD
TZOFFSETFROM:+0200
TZOFFSETTO:+0100
TZNAME:CET
DTSTART:19701025T030000
RRULE:FREQ=YEARLY;BYDAY=-1SU;BYMONTH=10
END:STANDARD
END:VTIMEZONE
BEGIN:VEVENT
LOCATION:Kunstrasenplatz, SPA Schwachhausen, Kunstrasen, Konrad-Adenauer-Allee, 28329 Bremen
UID:021603b371e6377c5d01d593f38f558e@walddoerfer-sv.de
SUMMARY:Testspiel: TUS Schwachhausen 1.Frauen - Walddörfer 1.Frauen
DESCRIPTION:
CLASS:PUBLIC
DTSTART;TZID=Europe/Berlin:20200202T151500
DTEND;TZID=Europe/Berlin:20200202T171500
DTSTAMP:20200105T193747
END:VEVENT
END:VCALENDAR