BEGIN:VCALENDAR
VERSION:2.0
PRODID:https://walddoerfer-sv.de/
BEGIN:VTIMEZONE
TZID:Europe/Berlin
X-LIC-LOCATION:Europe/Berlin
BEGIN:DAYLIGHT
TZOFFSETFROM:+0100
TZOFFSETTO:+0200
TZNAME:CEST
DTSTART:19700329T020000
RRULE:FREQ=YEARLY;BYDAY=-1SU;BYMONTH=3
END:DAYLIGHT
BEGIN:STANDARD
TZOFFSETFROM:+0200
TZOFFSETTO:+0100
TZNAME:CET
DTSTART:19701025T030000
RRULE:FREQ=YEARLY;BYDAY=-1SU;BYMONTH=10
END:STANDARD
END:VTIMEZONE
BEGIN:VEVENT
LOCATION:Allhornstadion
UID:b7bcd1fb29eea4fa92d61554c8d10c6f@walddoerfer-sv.de
SUMMARY:Verbandsliga: 1. Frauen Walddörfer SV - Hamburger SV 2. Frauen
DESCRIPTION:Das ist ja wohl das Knallerspiel des Jahres! Der Tabellenerste HSV zu Gast im Stadion Allhorn beim Tabellenzweiten. Und nur 3 Punkte trennen dieses beiden Teams...! Auf ins Allhorn - feuert unsere Mädels an!
CLASS:PUBLIC
DTSTART;TZID=Europe/Berlin:20230423T140000
DTEND;TZID=Europe/Berlin:20230423T160000
DTSTAMP:20230421T155213
END:VEVENT
END:VCALENDAR