BEGIN:VCALENDAR
VERSION:2.0
PRODID:https://walddoerfer-sv.de/
BEGIN:VTIMEZONE
TZID:Europe/Berlin
X-LIC-LOCATION:Europe/Berlin
BEGIN:DAYLIGHT
TZOFFSETFROM:+0100
TZOFFSETTO:+0200
TZNAME:CEST
DTSTART:19700329T020000
RRULE:FREQ=YEARLY;BYDAY=-1SU;BYMONTH=3
END:DAYLIGHT
BEGIN:STANDARD
TZOFFSETFROM:+0200
TZOFFSETTO:+0100
TZNAME:CET
DTSTART:19701025T030000
RRULE:FREQ=YEARLY;BYDAY=-1SU;BYMONTH=10
END:STANDARD
END:VTIMEZONE
BEGIN:VEVENT
LOCATION:Allhornstadion
UID:ffea36f9b889aefa7d105e8662be14e0@walddoerfer-sv.de
SUMMARY:Verbandsliga: 1. Frauen Walddörfer SV - St. Pauli 2. Frauen
DESCRIPTION:
CLASS:PUBLIC
DTSTART;TZID=Europe/Berlin:20221113T123000
DTEND;TZID=Europe/Berlin:20221113T143000
DTSTAMP:20221108T084416
END:VEVENT
END:VCALENDAR