BEGIN:VCALENDAR
VERSION:2.0
PRODID:https://walddoerfer-sv.de/
BEGIN:VTIMEZONE
TZID:Europe/Berlin
X-LIC-LOCATION:Europe/Berlin
BEGIN:DAYLIGHT
TZOFFSETFROM:+0100
TZOFFSETTO:+0200
TZNAME:CEST
DTSTART:19700329T020000
RRULE:FREQ=YEARLY;BYDAY=-1SU;BYMONTH=3
END:DAYLIGHT
BEGIN:STANDARD
TZOFFSETFROM:+0200
TZOFFSETTO:+0100
TZNAME:CET
DTSTART:19701025T030000
RRULE:FREQ=YEARLY;BYDAY=-1SU;BYMONTH=10
END:STANDARD
END:VTIMEZONE
BEGIN:VEVENT
LOCATION:Allhornstadion
UID:ac1dfc18a0b75ddc6aeff607abe0c777@walddoerfer-sv.de
SUMMARY:Verbandsliga: Walddörfer 1.Frauen - Union Tornesch 1.Frauen
DESCRIPTION:Der vierte Spieltag in der Frauen Verbandsliga steht an.
CLASS:PUBLIC
DTSTART;TZID=Europe/Berlin:20220918T143000
DTEND;TZID=Europe/Berlin:20220918T161500
DTSTAMP:20220917T161411
END:VEVENT
END:VCALENDAR