BEGIN:VCALENDAR
VERSION:2.0
PRODID:https://walddoerfer-sv.de/
BEGIN:VTIMEZONE
TZID:Europe/Berlin
X-LIC-LOCATION:Europe/Berlin
BEGIN:DAYLIGHT
TZOFFSETFROM:+0100
TZOFFSETTO:+0200
TZNAME:CEST
DTSTART:19700329T020000
RRULE:FREQ=YEARLY;BYDAY=-1SU;BYMONTH=3
END:DAYLIGHT
BEGIN:STANDARD
TZOFFSETFROM:+0200
TZOFFSETTO:+0100
TZNAME:CET
DTSTART:19701025T030000
RRULE:FREQ=YEARLY;BYDAY=-1SU;BYMONTH=10
END:STANDARD
END:VTIMEZONE
BEGIN:VEVENT
LOCATION:Stadion Im Allhorn
UID:aa17288b93118689e695f5d803840b45@walddoerfer-sv.de
SUMMARY:Walddörfer SV 1. Herren - Farmsener TV 2. Herren
DESCRIPTION:Saisonfinale - Letztes Punktspiel der 1.Herren des Walddörfer SV gegen die Nachbarn aus Farmsen.
CLASS:PUBLIC
DTSTART;TZID=Europe/Berlin:20220514T150000
DTEND;TZID=Europe/Berlin:20220514T164500
DTSTAMP:20220514T134525
END:VEVENT
END:VCALENDAR