BEGIN:VCALENDAR
VERSION:2.0
PRODID:https://walddoerfer-sv.de/
BEGIN:VTIMEZONE
TZID:Europe/Berlin
X-LIC-LOCATION:Europe/Berlin
BEGIN:DAYLIGHT
TZOFFSETFROM:+0100
TZOFFSETTO:+0200
TZNAME:CEST
DTSTART:19700329T020000
RRULE:FREQ=YEARLY;BYDAY=-1SU;BYMONTH=3
END:DAYLIGHT
BEGIN:STANDARD
TZOFFSETFROM:+0200
TZOFFSETTO:+0100
TZNAME:CET
DTSTART:19701025T030000
RRULE:FREQ=YEARLY;BYDAY=-1SU;BYMONTH=10
END:STANDARD
END:VTIMEZONE
BEGIN:VEVENT
LOCATION:Stadion Im Allhorn
UID:600266b03fabe0c7168ed90ac020655c@walddoerfer-sv.de
SUMMARY:Walddörfer SV 1.Frauen - ATS Buntentor 1. Frauen - Regionalliga Nord
DESCRIPTION:Zu Gast im Stadion Allhorn, der ATS Buntentor 1.Frauen aus der Hansestadt Bremen.
CLASS:PUBLIC
DTSTART;TZID=Europe/Berlin:20220515T140000
DTEND;TZID=Europe/Berlin:20220515T154500
DTSTAMP:20220512T150135
END:VEVENT
END:VCALENDAR