BEGIN:VCALENDAR
VERSION:2.0
PRODID:https://walddoerfer-sv.de/
BEGIN:VTIMEZONE
TZID:Europe/Berlin
X-LIC-LOCATION:Europe/Berlin
BEGIN:DAYLIGHT
TZOFFSETFROM:+0100
TZOFFSETTO:+0200
TZNAME:CEST
DTSTART:19700329T020000
RRULE:FREQ=YEARLY;BYDAY=-1SU;BYMONTH=3
END:DAYLIGHT
BEGIN:STANDARD
TZOFFSETFROM:+0200
TZOFFSETTO:+0100
TZNAME:CET
DTSTART:19701025T030000
RRULE:FREQ=YEARLY;BYDAY=-1SU;BYMONTH=10
END:STANDARD
END:VTIMEZONE
BEGIN:VEVENT
LOCATION:Stadion Im Allhorn
UID:e95bcc9311bfd4c7216facadc17b5fa0@walddoerfer-sv.de
SUMMARY:Walddörfer SV 1.Frauen - Hamburger SV 1. Frauen - Regionalliga Nord
DESCRIPTION:Zu Gast im Stadion Allhorn, der Tabellenführer der Regionalliga Nord - Hamburger SV 1.Frauen
CLASS:PUBLIC
DTSTART;TZID=Europe/Berlin:20220508T140000
DTEND;TZID=Europe/Berlin:20220508T154500
DTSTAMP:20220506T121204
END:VEVENT
END:VCALENDAR