BEGIN:VCALENDAR
VERSION:2.0
PRODID:https://walddoerfer-sv.de/
BEGIN:VTIMEZONE
TZID:Europe/Berlin
X-LIC-LOCATION:Europe/Berlin
BEGIN:DAYLIGHT
TZOFFSETFROM:+0100
TZOFFSETTO:+0200
TZNAME:CEST
DTSTART:19700329T020000
RRULE:FREQ=YEARLY;BYDAY=-1SU;BYMONTH=3
END:DAYLIGHT
BEGIN:STANDARD
TZOFFSETFROM:+0200
TZOFFSETTO:+0100
TZNAME:CET
DTSTART:19701025T030000
RRULE:FREQ=YEARLY;BYDAY=-1SU;BYMONTH=10
END:STANDARD
END:VTIMEZONE
BEGIN:VEVENT
LOCATION:Saseler Weg 6
UID:8700beb6a9dbce4f85cdb0217e81704f@walddoerfer-sv.de
SUMMARY:Walking Football - Schnuppertermin
DESCRIPTION:Frisch ins neue Jahr - mit einem neuen sportlichen Angebot! Komm vorbei oder melde dich an!

Walking Football ist eine Fußball-Variante, die Menschen erreicht, die aufgrund von Einschränkungen keine traditionellen Fußballspiele bestreiten können.

Menschen jeglichen Geschlechts und mit unterschiedlichen Fähigkeiten bekommen so die Möglichkeit, gemeinsam Fußball zu spielen.
CLASS:PUBLIC
DTSTART;TZID=Europe/Berlin:20250823T150000
DTEND;TZID=Europe/Berlin:20250823T163000
DTSTAMP:20260411T115645
END:VEVENT
END:VCALENDAR