BEGIN:VCALENDAR
VERSION:2.0
PRODID:https://walddoerfer-sv.de/
BEGIN:VTIMEZONE
TZID:Europe/Berlin
X-LIC-LOCATION:Europe/Berlin
BEGIN:DAYLIGHT
TZOFFSETFROM:+0100
TZOFFSETTO:+0200
TZNAME:CEST
DTSTART:19700329T020000
RRULE:FREQ=YEARLY;BYDAY=-1SU;BYMONTH=3
END:DAYLIGHT
BEGIN:STANDARD
TZOFFSETFROM:+0200
TZOFFSETTO:+0100
TZNAME:CET
DTSTART:19701025T030000
RRULE:FREQ=YEARLY;BYDAY=-1SU;BYMONTH=10
END:STANDARD
END:VTIMEZONE
BEGIN:VEVENT
LOCATION:
UID:182892affd0388d1b53a16b079782885@walddoerfer-sv.de
SUMMARY:Sparkasse Holstein Cup 2023 (mE/wE)
DESCRIPTION:Handball Jugendturnier in der Sporthalle Ahrensburger Weg 28.
CLASS:PUBLIC
DTSTART;TZID=Europe/Berlin:20230107T090000
DTEND;TZID=Europe/Berlin:20220107T163000
DTSTAMP:20230106T112810
END:VEVENT
END:VCALENDAR