BEGIN:VCALENDAR
VERSION:2.0
PRODID:https://walddoerfer-sv.de/
BEGIN:VTIMEZONE
TZID:Europe/Berlin
X-LIC-LOCATION:Europe/Berlin
BEGIN:DAYLIGHT
TZOFFSETFROM:+0100
TZOFFSETTO:+0200
TZNAME:CEST
DTSTART:19700329T020000
RRULE:FREQ=YEARLY;BYDAY=-1SU;BYMONTH=3
END:DAYLIGHT
BEGIN:STANDARD
TZOFFSETFROM:+0200
TZOFFSETTO:+0100
TZNAME:CET
DTSTART:19701025T030000
RRULE:FREQ=YEARLY;BYDAY=-1SU;BYMONTH=10
END:STANDARD
END:VTIMEZONE
BEGIN:VEVENT
LOCATION:Walddörfer SV, Sportforum, Saal 1
UID:d02eb239ee4d11c11c46c0e65c6dfe12@walddoerfer-sv.de
SUMMARY:Großer Salsa Workshop
DESCRIPTION:Am Freitag, den 11. Januar 2019, findet ein großer Salsa Workshop statt. Jeder ist eingeladen, Anfänger und Fortgeschrittene, Tanzbegeisterte, die nicht aus der Latin Dance Szene kommen, aber auch alle, die einfach Lust haben zuzuschauen!
CLASS:PUBLIC
DTSTART;TZID=Europe/Berlin:20190111T190000
DTEND;TZID=Europe/Berlin:20190111T220000
DTSTAMP:20190103T135015
END:VEVENT
END:VCALENDAR