BEGIN:VCALENDAR
VERSION:2.0
PRODID:https://walddoerfer-sv.de/
BEGIN:VTIMEZONE
TZID:Europe/Berlin
X-LIC-LOCATION:Europe/Berlin
BEGIN:DAYLIGHT
TZOFFSETFROM:+0100
TZOFFSETTO:+0200
TZNAME:CEST
DTSTART:19700329T020000
RRULE:FREQ=YEARLY;BYDAY=-1SU;BYMONTH=3
END:DAYLIGHT
BEGIN:STANDARD
TZOFFSETFROM:+0200
TZOFFSETTO:+0100
TZNAME:CET
DTSTART:19701025T030000
RRULE:FREQ=YEARLY;BYDAY=-1SU;BYMONTH=10
END:STANDARD
END:VTIMEZONE
BEGIN:VEVENT
LOCATION:Walddörfer Sportforum
UID:24d10ed067db921c38ae8159271f45d7@walddoerfer-sv.de
SUMMARY:Kangeiko - Traditionelles Karate Outdoor Training zum Jahresbeginn
DESCRIPTION:Treffpunkt für unser dieses Outdoor-Training ist um 10:00 Uhr im Foyer der Walddörfer Sportforums. Von dort erfolgt ein Lauf durch den Volksdorfer Ortkern mit Live-Übungen. Abschluss ist die eiskalter „Wassertaufe&quot; auf der Wiese hinter dem Walddörfer Sportforum
CLASS:PUBLIC
DTSTART;TZID=Europe/Berlin:20200111T100000
DTEND;TZID=Europe/Berlin:20200111T113000
DTSTAMP:20191220T154316
END:VEVENT
END:VCALENDAR