BEGIN:VCALENDAR
VERSION:2.0
PRODID:https://walddoerfer-sv.de/
BEGIN:VTIMEZONE
TZID:Europe/Berlin
X-LIC-LOCATION:Europe/Berlin
BEGIN:DAYLIGHT
TZOFFSETFROM:+0100
TZOFFSETTO:+0200
TZNAME:CEST
DTSTART:19700329T020000
RRULE:FREQ=YEARLY;BYDAY=-1SU;BYMONTH=3
END:DAYLIGHT
BEGIN:STANDARD
TZOFFSETFROM:+0200
TZOFFSETTO:+0100
TZNAME:CET
DTSTART:19701025T030000
RRULE:FREQ=YEARLY;BYDAY=-1SU;BYMONTH=10
END:STANDARD
END:VTIMEZONE
BEGIN:VEVENT
LOCATION:Walddörfer SV, Sportforum und Beachvolleyballfeld
UID:53ce0276b654ac10ffe3a7abeb76b864@walddoerfer-sv.de
SUMMARY:Kinder Sommerfest 2022 mit Schultaufe der 1. Klässler und Mitmachprogramm
DESCRIPTION:Kurz vor den Sommerferien laden wir wieder alle Kinder mit Eltern, Oma und Opa zu unserem Kindersommerfest ein. Euch erwartet ein buntes Programm mit Spielen zum Mitmachen, Schultaufe der 1. Klässler, Hüpfburg und vieles mehr. Badesachen und Handtuch nicht vergessen, wir sorgen für Abkühlung. Das Gastroteam versorgt Euch mit Würstchen vom Grill, Kaffee, Getränken und kleinen Snacks.
CLASS:PUBLIC
DTSTART;TZID=Europe/Berlin:20220705T160000
DTEND;TZID=Europe/Berlin:20220705T180000
DTSTAMP:20220523T122657
END:VEVENT
END:VCALENDAR