BEGIN:VCALENDAR
VERSION:2.0
PRODID:https://walddoerfer-sv.de/
BEGIN:VTIMEZONE
TZID:Europe/Berlin
X-LIC-LOCATION:Europe/Berlin
BEGIN:DAYLIGHT
TZOFFSETFROM:+0100
TZOFFSETTO:+0200
TZNAME:CEST
DTSTART:19700329T020000
RRULE:FREQ=YEARLY;BYDAY=-1SU;BYMONTH=3
END:DAYLIGHT
BEGIN:STANDARD
TZOFFSETFROM:+0200
TZOFFSETTO:+0100
TZNAME:CET
DTSTART:19701025T030000
RRULE:FREQ=YEARLY;BYDAY=-1SU;BYMONTH=10
END:STANDARD
END:VTIMEZONE
BEGIN:VEVENT
LOCATION:Walddörfer Sportforum
UID:28e29c9b12317db079ab3f9564f48ee4@walddoerfer-sv.de
SUMMARY:39. Silvesterlauf &quot;Rund um die Teichwiesen&quot;
DESCRIPTION:Der Silvesterlauf &quot;Rund um die Teichwiesen&quot; startet an der Halenreie, gegenüber vom Marktplatz.
CLASS:PUBLIC
DTSTART;TZID=Europe/Berlin:20241231T120000
DTEND;TZID=Europe/Berlin:20241231T140000
DTSTAMP:20241022T110453
END:VEVENT
END:VCALENDAR