BEGIN:VCALENDAR
VERSION:2.0
PRODID:https://walddoerfer-sv.de/
BEGIN:VTIMEZONE
TZID:Europe/Berlin
X-LIC-LOCATION:Europe/Berlin
BEGIN:DAYLIGHT
TZOFFSETFROM:+0100
TZOFFSETTO:+0200
TZNAME:CEST
DTSTART:19700329T020000
RRULE:FREQ=YEARLY;BYDAY=-1SU;BYMONTH=3
END:DAYLIGHT
BEGIN:STANDARD
TZOFFSETFROM:+0200
TZOFFSETTO:+0100
TZNAME:CET
DTSTART:19701025T030000
RRULE:FREQ=YEARLY;BYDAY=-1SU;BYMONTH=10
END:STANDARD
END:VTIMEZONE
BEGIN:VEVENT
LOCATION:
UID:4f71553c7d3b15e3408c695b09dec28d@walddoerfer-sv.de
SUMMARY:Abteilungsversammlung Leichtathletik 2021
DESCRIPTION:Aufgrund der aktuellen Corona-Verordnung wird die Versammlung über die Online-Plattform ZOOM stattfinden. Eine Online-Registrierung ist erforderlich (s. mehr Infos).
CLASS:PUBLIC
DTSTART;TZID=Europe/Berlin:20210415T183000
DTEND;TZID=Europe/Berlin:20210415T000000
DTSTAMP:20210310T104802
END:VEVENT
END:VCALENDAR