BEGIN:VCALENDAR
VERSION:2.0
PRODID:https://walddoerfer-sv.de/
BEGIN:VTIMEZONE
TZID:Europe/Berlin
X-LIC-LOCATION:Europe/Berlin
BEGIN:DAYLIGHT
TZOFFSETFROM:+0100
TZOFFSETTO:+0200
TZNAME:CEST
DTSTART:19700329T020000
RRULE:FREQ=YEARLY;BYDAY=-1SU;BYMONTH=3
END:DAYLIGHT
BEGIN:STANDARD
TZOFFSETFROM:+0200
TZOFFSETTO:+0100
TZNAME:CET
DTSTART:19701025T030000
RRULE:FREQ=YEARLY;BYDAY=-1SU;BYMONTH=10
END:STANDARD
END:VTIMEZONE
BEGIN:VEVENT
LOCATION:
UID:2b1bd0d032aa96b4f7de76aa2e1db6c6@walddoerfer-sv.de
SUMMARY:2. Rennrad-Sicherheitstraining
DESCRIPTION:Am 3. Mai besteht die 2. Möglichkeit an einem professionellem Sicherheitstraining teilzunehmen. Es sind noch wenige Plätze frei. Anmeldung über rst@walddoerfer-sv.de.
CLASS:PUBLIC
DTSTART;TZID=Europe/Berlin:20260503T100000
DTEND;TZID=Europe/Berlin:20260503T140000
DTSTAMP:20260419T220337
END:VEVENT
END:VCALENDAR