BEGIN:VCALENDAR
VERSION:2.0
PRODID:https://walddoerfer-sv.de/
BEGIN:VTIMEZONE
TZID:Europe/Berlin
X-LIC-LOCATION:Europe/Berlin
BEGIN:DAYLIGHT
TZOFFSETFROM:+0100
TZOFFSETTO:+0200
TZNAME:CEST
DTSTART:19700329T020000
RRULE:FREQ=YEARLY;BYDAY=-1SU;BYMONTH=3
END:DAYLIGHT
BEGIN:STANDARD
TZOFFSETFROM:+0200
TZOFFSETTO:+0100
TZNAME:CET
DTSTART:19701025T030000
RRULE:FREQ=YEARLY;BYDAY=-1SU;BYMONTH=10
END:STANDARD
END:VTIMEZONE
BEGIN:VEVENT
LOCATION:Stormanhalle
UID:6f8dfb5d1164a4dc2f57059661f99b73@walddoerfer-sv.de
SUMMARY:20. Giro Stormarn  RTF + NordCup
DESCRIPTION:RTF RV Trave Bad Oldesloe
CLASS:PUBLIC
DTSTART;TZID=Europe/Berlin:20190616T090000
DTEND;TZID=Europe/Berlin:20190616T140000
DTSTAMP:20190214T183732
END:VEVENT
END:VCALENDAR