BEGIN:VCALENDAR
VERSION:2.0
PRODID:https://walddoerfer-sv.de/
BEGIN:VTIMEZONE
TZID:Europe/Berlin
X-LIC-LOCATION:Europe/Berlin
BEGIN:DAYLIGHT
TZOFFSETFROM:+0100
TZOFFSETTO:+0200
TZNAME:CEST
DTSTART:19700329T020000
RRULE:FREQ=YEARLY;BYDAY=-1SU;BYMONTH=3
END:DAYLIGHT
BEGIN:STANDARD
TZOFFSETFROM:+0200
TZOFFSETTO:+0100
TZNAME:CET
DTSTART:19701025T030000
RRULE:FREQ=YEARLY;BYDAY=-1SU;BYMONTH=10
END:STANDARD
END:VTIMEZONE
BEGIN:VEVENT
LOCATION:
UID:f9bd6bed67305d642a4a1134aeef96ce@walddoerfer-sv.de
SUMMARY:Hamburg tritt an
DESCRIPTION:Am 04. Februar ist der WSV bei „Hamburg tritt an „ dabei. wir lassen die Scheiben glühen und das Licht aufleuchten und unterstützen damit die Ukraine-Hilfe
CLASS:PUBLIC
DTSTART;TZID=Europe/Berlin:20230204T090000
DTEND;TZID=Europe/Berlin:20230205T090000
DTSTAMP:20230101T173116
END:VEVENT
END:VCALENDAR