BEGIN:VCALENDAR
VERSION:2.0
PRODID:https://walddoerfer-sv.de/
BEGIN:VTIMEZONE
TZID:Europe/Berlin
X-LIC-LOCATION:Europe/Berlin
BEGIN:DAYLIGHT
TZOFFSETFROM:+0100
TZOFFSETTO:+0200
TZNAME:CEST
DTSTART:19700329T020000
RRULE:FREQ=YEARLY;BYDAY=-1SU;BYMONTH=3
END:DAYLIGHT
BEGIN:STANDARD
TZOFFSETFROM:+0200
TZOFFSETTO:+0100
TZNAME:CET
DTSTART:19701025T030000
RRULE:FREQ=YEARLY;BYDAY=-1SU;BYMONTH=10
END:STANDARD
END:VTIMEZONE
BEGIN:VEVENT
LOCATION:SVS Vereinsheim Günthers
UID:2fdaa09b9dce365b638306c489a7bdb0@walddoerfer-sv.de
SUMMARY:O-RTF SÜLFELDER FRÜHLINGSFRISCHE 3.0 - Absage
DESCRIPTION:Aufgrund der Allgemeinverfügung des Hamburger Senats kann die Tour am 29.03.2020 nicht wie geplant stattfinden.
Weitere Infos siehe unter https://walddoerfer-sv.de.
CLASS:PUBLIC
DTSTART;TZID=Europe/Berlin:20200329T090000
DTEND;TZID=Europe/Berlin:20200329T090000
DTSTAMP:20200317T115845
END:VEVENT
END:VCALENDAR