BEGIN:VCALENDAR
VERSION:2.0
PRODID:https://walddoerfer-sv.de/
BEGIN:VTIMEZONE
TZID:Europe/Berlin
X-LIC-LOCATION:Europe/Berlin
BEGIN:DAYLIGHT
TZOFFSETFROM:+0100
TZOFFSETTO:+0200
TZNAME:CEST
DTSTART:19700329T020000
RRULE:FREQ=YEARLY;BYDAY=-1SU;BYMONTH=3
END:DAYLIGHT
BEGIN:STANDARD
TZOFFSETFROM:+0200
TZOFFSETTO:+0100
TZNAME:CET
DTSTART:19701025T030000
RRULE:FREQ=YEARLY;BYDAY=-1SU;BYMONTH=10
END:STANDARD
END:VTIMEZONE
BEGIN:VEVENT
LOCATION:Sporthalle Berner Au
UID:ce15ee96bab6e4b0331654612b7bbe15@walddoerfer-sv.de
SUMMARY:11. North Star Cup
DESCRIPTION:
CLASS:PUBLIC
DTSTART;TZID=Europe/Berlin:20191109T090000
DTEND;TZID=Europe/Berlin:20191109T170000
DTSTAMP:20191001T145241
END:VEVENT
END:VCALENDAR