BEGIN:VCALENDAR
VERSION:2.0
PRODID:https://walddoerfer-sv.de/
BEGIN:VTIMEZONE
TZID:Europe/Berlin
X-LIC-LOCATION:Europe/Berlin
BEGIN:DAYLIGHT
TZOFFSETFROM:+0100
TZOFFSETTO:+0200
TZNAME:CEST
DTSTART:19700329T020000
RRULE:FREQ=YEARLY;BYDAY=-1SU;BYMONTH=3
END:DAYLIGHT
BEGIN:STANDARD
TZOFFSETFROM:+0200
TZOFFSETTO:+0100
TZNAME:CET
DTSTART:19701025T030000
RRULE:FREQ=YEARLY;BYDAY=-1SU;BYMONTH=10
END:STANDARD
END:VTIMEZONE
BEGIN:VEVENT
LOCATION:Berliner Expo Center City
UID:cb7f5d7b77c5462a109d5dcdf3399cc8@walddoerfer-sv.de
SUMMARY:Deutsches Turnfest 2017
DESCRIPTION:Das Turnfest ist auch für die Sportmetropole Berlin ein Fest der Superlative. Als größte Wettkampf- und Breitensportveranstaltung der Welt finden die Angebote des Turnfests in mehr als 76 verschiedenen Veranstaltungsstätten statt.
CLASS:PUBLIC
DTSTART;TZID=Europe/Berlin:20170603T100000
DTEND;TZID=Europe/Berlin:20170610T220000
DTSTAMP:20170616T125523
END:VEVENT
END:VCALENDAR