BEGIN:VCALENDAR
VERSION:2.0
PRODID:https://walddoerfer-sv.de/
BEGIN:VTIMEZONE
TZID:Europe/Berlin
X-LIC-LOCATION:Europe/Berlin
BEGIN:DAYLIGHT
TZOFFSETFROM:+0100
TZOFFSETTO:+0200
TZNAME:CEST
DTSTART:19700329T020000
RRULE:FREQ=YEARLY;BYDAY=-1SU;BYMONTH=3
END:DAYLIGHT
BEGIN:STANDARD
TZOFFSETFROM:+0200
TZOFFSETTO:+0100
TZNAME:CET
DTSTART:19701025T030000
RRULE:FREQ=YEARLY;BYDAY=-1SU;BYMONTH=10
END:STANDARD
END:VTIMEZONE
BEGIN:VEVENT
LOCATION:
UID:716f901033f6fc6a22d9d201f72dd938@walddoerfer-sv.de
SUMMARY:Regio-Cup Nord-West 2019
DESCRIPTION:
CLASS:PUBLIC
DTSTART;TZID=Europe/Berlin:20190504T090000
DTEND;TZID=Europe/Berlin:20190504T160000
DTSTAMP:20190509T120441
END:VEVENT
END:VCALENDAR