BEGIN:VCALENDAR
VERSION:2.0
PRODID:https://walddoerfer-sv.de/
BEGIN:VTIMEZONE
TZID:Europe/Berlin
X-LIC-LOCATION:Europe/Berlin
BEGIN:DAYLIGHT
TZOFFSETFROM:+0100
TZOFFSETTO:+0200
TZNAME:CEST
DTSTART:19700329T020000
RRULE:FREQ=YEARLY;BYDAY=-1SU;BYMONTH=3
END:DAYLIGHT
BEGIN:STANDARD
TZOFFSETFROM:+0200
TZOFFSETTO:+0100
TZNAME:CET
DTSTART:19701025T030000
RRULE:FREQ=YEARLY;BYDAY=-1SU;BYMONTH=10
END:STANDARD
END:VTIMEZONE
BEGIN:VEVENT
LOCATION:Bundesstützpunkt Badgasteiner Straße, 28359 Bremen
UID:db6d2daeacdcab6c57d2c9ab4aa86da1@walddoerfer-sv.de
SUMMARY:Regio - Cup  Nordwest Gymnastik 2017 in Bremen
DESCRIPTION:Am 11.03.2017 findet in Bremen der Regio-Cup Nordwest Gymnastik statt. Der Wettkampf dient gleichzeitig der Qualifikation zum Deutschland Cup Gymnastik im Rahmen des Deutschen Turnfestes in Berlin im Juni 2017. Es treten an Gymnastinnen der Stufen K8 (12-14 Jahre), K9 (15-17 Jahre), K10 (18+). Wir wünschen unseren Siegerinnen der Hamburger Meisterschaften viel Glück!!!
CLASS:PUBLIC
DTSTART;TZID=Europe/Berlin:20170311T080000
DTEND;TZID=Europe/Berlin:20170310T150000
DTSTAMP:20170310T082157
END:VEVENT
END:VCALENDAR