BEGIN:VCALENDAR
VERSION:2.0
PRODID:https://walddoerfer-sv.de/
BEGIN:VTIMEZONE
TZID:Europe/Berlin
X-LIC-LOCATION:Europe/Berlin
BEGIN:DAYLIGHT
TZOFFSETFROM:+0100
TZOFFSETTO:+0200
TZNAME:CEST
DTSTART:19700329T020000
RRULE:FREQ=YEARLY;BYDAY=-1SU;BYMONTH=3
END:DAYLIGHT
BEGIN:STANDARD
TZOFFSETFROM:+0200
TZOFFSETTO:+0100
TZNAME:CET
DTSTART:19701025T030000
RRULE:FREQ=YEARLY;BYDAY=-1SU;BYMONTH=10
END:STANDARD
END:VTIMEZONE
BEGIN:VEVENT
LOCATION:Berner Au Sporthalle
UID:5cfafeea911cb87683bdf8d802e5bd95@walddoerfer-sv.de
SUMMARY:Trampolin und Rock &#039;n&#039; Roll
DESCRIPTION:Neujahresauftakt mit 3xT
Tanzen, Trampolin &amp; Turnen.
CLASS:PUBLIC
DTSTART;TZID=Europe/Berlin:20200304T100000
DTEND;TZID=Europe/Berlin:20200304T120000
DTSTAMP:20231222T085017
END:VEVENT
END:VCALENDAR