BEGIN:VCALENDAR
VERSION:2.0
PRODID:https://walddoerfer-sv.de/
BEGIN:VTIMEZONE
TZID:Europe/Berlin
X-LIC-LOCATION:Europe/Berlin
BEGIN:DAYLIGHT
TZOFFSETFROM:+0100
TZOFFSETTO:+0200
TZNAME:CEST
DTSTART:19700329T020000
RRULE:FREQ=YEARLY;BYDAY=-1SU;BYMONTH=3
END:DAYLIGHT
BEGIN:STANDARD
TZOFFSETFROM:+0200
TZOFFSETTO:+0100
TZNAME:CET
DTSTART:19701025T030000
RRULE:FREQ=YEARLY;BYDAY=-1SU;BYMONTH=10
END:STANDARD
END:VTIMEZONE
BEGIN:VEVENT
LOCATION:Sportforum Saal1
UID:bbc8510cf3bc1ad4edc57363b4fa1efd@walddoerfer-sv.de
SUMMARY:Skibasar 2026
DESCRIPTION:Ski zu verkaufen? Helm oder Brille gesucht? Am 17.01.2026 von 09-11:30 Uhr findet im großen Saal des Walddörfer Sportforums unser traditioneller Skibasar statt. Der An- und Verkauf erfolgt ausschließlich von Privat an Privat. Das zum Verkauf stehende Material sollte nicht zu alt sein.
Der Standaufbau für Verkäufer ist ab 8:30 Uhr möglich.
CLASS:PUBLIC
DTSTART;TZID=Europe/Berlin:20260117T090000
DTEND;TZID=Europe/Berlin:20260117T113000
DTSTAMP:20251216T104047
END:VEVENT
END:VCALENDAR