BEGIN:VCALENDAR
VERSION:2.0
PRODID:https://walddoerfer-sv.de/
BEGIN:VTIMEZONE
TZID:Europe/Berlin
X-LIC-LOCATION:Europe/Berlin
BEGIN:DAYLIGHT
TZOFFSETFROM:+0100
TZOFFSETTO:+0200
TZNAME:CEST
DTSTART:19700329T020000
RRULE:FREQ=YEARLY;BYDAY=-1SU;BYMONTH=3
END:DAYLIGHT
BEGIN:STANDARD
TZOFFSETFROM:+0200
TZOFFSETTO:+0100
TZNAME:CET
DTSTART:19701025T030000
RRULE:FREQ=YEARLY;BYDAY=-1SU;BYMONTH=10
END:STANDARD
END:VTIMEZONE
BEGIN:VEVENT
LOCATION:Sportforum Saal 1
UID:371a394d2e75fbf6ad77bc963c943fd1@walddoerfer-sv.de
SUMMARY:Gemeinsame Landesmeisterschaften TSH, HATV, TMV, LTV Bremen
DESCRIPTION:Turniere der Senioren IV D und S Standard. Wir freuen uns auf Ihren Besuch &gt;&gt;&gt;

Hier die aktuellen Startzeiten
Senioren IV  D    -  fällt aus
Senioren IV C    &gt;  14:00 Uhr
Senioren IV B    &gt;  14:45 Uhr
Senioren IV A    &gt;  15:30 Uhr
Senioren IV S    &gt;  16:00 Uhr
CLASS:PUBLIC
DTSTART;TZID=Europe/Berlin:20200308T140000
DTEND;TZID=Europe/Berlin:20200308T200000
DTSTAMP:20200304T182514
END:VEVENT
END:VCALENDAR