BEGIN:VCALENDAR
VERSION:2.0
PRODID:https://walddoerfer-sv.de/
BEGIN:VTIMEZONE
TZID:Europe/Berlin
X-LIC-LOCATION:Europe/Berlin
BEGIN:DAYLIGHT
TZOFFSETFROM:+0100
TZOFFSETTO:+0200
TZNAME:CEST
DTSTART:19700329T020000
RRULE:FREQ=YEARLY;BYDAY=-1SU;BYMONTH=3
END:DAYLIGHT
BEGIN:STANDARD
TZOFFSETFROM:+0200
TZOFFSETTO:+0100
TZNAME:CET
DTSTART:19701025T030000
RRULE:FREQ=YEARLY;BYDAY=-1SU;BYMONTH=10
END:STANDARD
END:VTIMEZONE
BEGIN:VEVENT
LOCATION:Walddörfer Sportforum Saal 1
UID:06f2f0c181c457b39c84c576e5596b93@walddoerfer-sv.de
SUMMARY:Hamburger Tanzfestival 2026
DESCRIPTION:Die Turniere finden am Samstag von 11:00 bis ca. 19:30 Uhr und am Sonntag von 11:00 - 18:00 Uhr statt.
CLASS:PUBLIC
DTSTART;TZID=Europe/Berlin:20260314T110000
DTEND;TZID=Europe/Berlin:20260315T180000
DTSTAMP:20260120T165521
END:VEVENT
END:VCALENDAR