BEGIN:VCALENDAR
VERSION:2.0
PRODID:https://walddoerfer-sv.de/
BEGIN:VTIMEZONE
TZID:Europe/Berlin
X-LIC-LOCATION:Europe/Berlin
BEGIN:DAYLIGHT
TZOFFSETFROM:+0100
TZOFFSETTO:+0200
TZNAME:CEST
DTSTART:19700329T020000
RRULE:FREQ=YEARLY;BYDAY=-1SU;BYMONTH=3
END:DAYLIGHT
BEGIN:STANDARD
TZOFFSETFROM:+0200
TZOFFSETTO:+0100
TZNAME:CET
DTSTART:19701025T030000
RRULE:FREQ=YEARLY;BYDAY=-1SU;BYMONTH=10
END:STANDARD
END:VTIMEZONE
BEGIN:VEVENT
LOCATION:Walddörfer Sportforum Saal 1
UID:48bdc6af2e26f58269180d96961c5ef5@walddoerfer-sv.de
SUMMARY:West Coast Swing - Auftaktveranstaltung
DESCRIPTION:
CLASS:PUBLIC
DTSTART;TZID=Europe/Berlin:20200228T190000
DTEND;TZID=Europe/Berlin:20200228T210000
DTSTAMP:20200203T112653
END:VEVENT
END:VCALENDAR