BEGIN:VCALENDAR
VERSION:2.0
PRODID:https://walddoerfer-sv.de/
BEGIN:VTIMEZONE
TZID:Europe/Berlin
X-LIC-LOCATION:Europe/Berlin
BEGIN:DAYLIGHT
TZOFFSETFROM:+0100
TZOFFSETTO:+0200
TZNAME:CEST
DTSTART:19700329T020000
RRULE:FREQ=YEARLY;BYDAY=-1SU;BYMONTH=3
END:DAYLIGHT
BEGIN:STANDARD
TZOFFSETFROM:+0200
TZOFFSETTO:+0100
TZNAME:CET
DTSTART:19701025T030000
RRULE:FREQ=YEARLY;BYDAY=-1SU;BYMONTH=10
END:STANDARD
END:VTIMEZONE
BEGIN:VEVENT
LOCATION:Sporthalle an der Berner Au
UID:3d06bb7248e0a9fc2b78d8ca00259a73@walddoerfer-sv.de
SUMMARY:9. Walddörfer SV Tischtennisturnier
DESCRIPTION:Samstag 19.7. 
09:30 Uhr Jugend (bis 1300)
12:00 Uhr Erwachsene B (bis 1700)
15:00 Uhr Erwachsene D (bis 1400)

Sonntag 20.7. 
09:30 Uhr Jugend (bis 1000)
12:00 Uhr Erwachsene offen (1650 bis 3000)
15:00 Uhr Erwachsene offen (bis 1550)

Zuschauer sind herzlich willkommen
CLASS:PUBLIC
DTSTART;TZID=Europe/Berlin:20250719T090000
DTEND;TZID=Europe/Berlin:20250720T200000
DTSTAMP:20250711T095811
END:VEVENT
END:VCALENDAR