BEGIN:VCALENDAR
VERSION:2.0
PRODID:https://walddoerfer-sv.de/
BEGIN:VTIMEZONE
TZID:Europe/Berlin
X-LIC-LOCATION:Europe/Berlin
BEGIN:DAYLIGHT
TZOFFSETFROM:+0100
TZOFFSETTO:+0200
TZNAME:CEST
DTSTART:19700329T020000
RRULE:FREQ=YEARLY;BYDAY=-1SU;BYMONTH=3
END:DAYLIGHT
BEGIN:STANDARD
TZOFFSETFROM:+0200
TZOFFSETTO:+0100
TZNAME:CET
DTSTART:19701025T030000
RRULE:FREQ=YEARLY;BYDAY=-1SU;BYMONTH=10
END:STANDARD
END:VTIMEZONE
BEGIN:VEVENT
LOCATION:Sporthalle Margarethe-Rothe-Gymnasium
UID:3d750db396ebb64000e381c7beafff4f@walddoerfer-sv.de
SUMMARY:4-Jahreszeiten-Pokal
DESCRIPTION:
CLASS:PUBLIC
DTSTART;TZID=Europe/Berlin:20230604T113000
DTEND;TZID=Europe/Berlin:20230604T160000
DTSTAMP:20230504T155114
END:VEVENT
END:VCALENDAR