BEGIN:VCALENDAR
VERSION:2.0
PRODID:https://walddoerfer-sv.de/
BEGIN:VTIMEZONE
TZID:Europe/Berlin
X-LIC-LOCATION:Europe/Berlin
BEGIN:DAYLIGHT
TZOFFSETFROM:+0100
TZOFFSETTO:+0200
TZNAME:CEST
DTSTART:19700329T020000
RRULE:FREQ=YEARLY;BYDAY=-1SU;BYMONTH=3
END:DAYLIGHT
BEGIN:STANDARD
TZOFFSETFROM:+0200
TZOFFSETTO:+0100
TZNAME:CET
DTSTART:19701025T030000
RRULE:FREQ=YEARLY;BYDAY=-1SU;BYMONTH=10
END:STANDARD
END:VTIMEZONE
BEGIN:VEVENT
LOCATION:Sporthalle Margarethe Rothe Schule
UID:cf1c74b7754c14385c3a6c0ddcd41734@walddoerfer-sv.de
SUMMARY:Deutsche Meisterschaft Doppel-Mini-Trampolin
DESCRIPTION:
CLASS:PUBLIC
DTSTART;TZID=Europe/Berlin:20220327T090000
DTEND;TZID=Europe/Berlin:20220327T170000
DTSTAMP:20220316T154432
END:VEVENT
END:VCALENDAR