BEGIN:VCALENDAR
VERSION:2.0
PRODID:https://walddoerfer-sv.de/
BEGIN:VTIMEZONE
TZID:Europe/Berlin
X-LIC-LOCATION:Europe/Berlin
BEGIN:DAYLIGHT
TZOFFSETFROM:+0100
TZOFFSETTO:+0200
TZNAME:CEST
DTSTART:19700329T020000
RRULE:FREQ=YEARLY;BYDAY=-1SU;BYMONTH=3
END:DAYLIGHT
BEGIN:STANDARD
TZOFFSETFROM:+0200
TZOFFSETTO:+0100
TZNAME:CET
DTSTART:19701025T030000
RRULE:FREQ=YEARLY;BYDAY=-1SU;BYMONTH=10
END:STANDARD
END:VTIMEZONE
BEGIN:VEVENT
LOCATION:Allhorn Stadion
UID:16fbf4c5dee22f1aabaed9cf818faad4@walddoerfer-sv.de
SUMMARY:BubbleMania 2020 - Die Hamburger BubbleBall Meisterschaft- Absage
DESCRIPTION:Euch erwartet ein spannendes BubbleBall Turnier voller taktischer und spielerischer Finessen - Action garantiert - außerdem gibt&#039;s Verpflegung, Musik und vieles mehr. Gespielt wird das Turnier in Gruppen à 4 bis 5 Teams mit je 5 Feldspielern und 2 optionalen Ersatzspielern. Im Anschluss folgt die K.O.-Phase bis zum Finale.
CLASS:PUBLIC
DTSTART;TZID=Europe/Berlin:20200524T120000
DTEND;TZID=Europe/Berlin:20200524T193000
DTSTAMP:20220616T155037
END:VEVENT
END:VCALENDAR