BEGIN:VCALENDAR
VERSION:2.0
PRODID:https://walddoerfer-sv.de/
BEGIN:VTIMEZONE
TZID:Europe/Berlin
X-LIC-LOCATION:Europe/Berlin
BEGIN:DAYLIGHT
TZOFFSETFROM:+0100
TZOFFSETTO:+0200
TZNAME:CEST
DTSTART:19700329T020000
RRULE:FREQ=YEARLY;BYDAY=-1SU;BYMONTH=3
END:DAYLIGHT
BEGIN:STANDARD
TZOFFSETFROM:+0200
TZOFFSETTO:+0100
TZNAME:CET
DTSTART:19701025T030000
RRULE:FREQ=YEARLY;BYDAY=-1SU;BYMONTH=10
END:STANDARD
END:VTIMEZONE
BEGIN:VEVENT
LOCATION:U.S Fun Bowling Mundsburg
UID:49f54bfba4fbe784db5d1ea188738d24@walddoerfer-sv.de
SUMMARY:Herbst Midnight Bowling 2021 - Abgesagt
DESCRIPTION:
CLASS:PUBLIC
DTSTART;TZID=Europe/Berlin:20211001T204000
DTEND;TZID=Europe/Berlin:20211001T230000
DTSTAMP:20220616T155037
END:VEVENT
END:VCALENDAR