BEGIN:VCALENDAR
VERSION:2.0
PRODID:https://walddoerfer-sv.de/
BEGIN:VTIMEZONE
TZID:Europe/Berlin
X-LIC-LOCATION:Europe/Berlin
BEGIN:DAYLIGHT
TZOFFSETFROM:+0100
TZOFFSETTO:+0200
TZNAME:CEST
DTSTART:19700329T020000
RRULE:FREQ=YEARLY;BYDAY=-1SU;BYMONTH=3
END:DAYLIGHT
BEGIN:STANDARD
TZOFFSETFROM:+0200
TZOFFSETTO:+0100
TZNAME:CET
DTSTART:19701025T030000
RRULE:FREQ=YEARLY;BYDAY=-1SU;BYMONTH=10
END:STANDARD
END:VTIMEZONE
BEGIN:VEVENT
LOCATION:Beachplatz am Sportforum
UID:5edd09a25da4bd8608aa7c12e820839f@walddoerfer-sv.de
SUMMARY:Human Table Soccer
DESCRIPTION:2 Teams, 6 Stangen, 12 menschliche Kickerfiguren und nur ein Ziel - das Runde häufiger in das Eckige zu bekommen als der Gegner.

Und wer denkt, dass Human Table Soccer nur etwas für Fußballcracks ist, der irrt. Denn das Event eignet sich sowohl für Bewegungsfreunde als auch für diejenigen, die dem Sport normalerweise nicht so viel abgewinnen können.
CLASS:PUBLIC
DTSTART;TZID=Europe/Berlin:20210821T190000
DTEND;TZID=Europe/Berlin:20210821T230000
DTSTAMP:20220616T155037
END:VEVENT
END:VCALENDAR