BEGIN:VCALENDAR
VERSION:2.0
PRODID:https://walddoerfer-sv.de/
BEGIN:VTIMEZONE
TZID:Europe/Berlin
X-LIC-LOCATION:Europe/Berlin
BEGIN:DAYLIGHT
TZOFFSETFROM:+0100
TZOFFSETTO:+0200
TZNAME:CEST
DTSTART:19700329T020000
RRULE:FREQ=YEARLY;BYDAY=-1SU;BYMONTH=3
END:DAYLIGHT
BEGIN:STANDARD
TZOFFSETFROM:+0200
TZOFFSETTO:+0100
TZNAME:CET
DTSTART:19701025T030000
RRULE:FREQ=YEARLY;BYDAY=-1SU;BYMONTH=10
END:STANDARD
END:VTIMEZONE
BEGIN:VEVENT
LOCATION:Sportforum Saal1
UID:b508d72b57e7b3e6bbbc16d0b971b6a2@walddoerfer-sv.de
SUMMARY:Kinderdisco 2021
DESCRIPTION:Du bist zwischen 5 und 10 Jahren alt? 
Du tanzt für dein Leben gerne? 
Dann sei bei unserer Kinderdisco dabei! 
Am: 21.08. Um: 17:30-18:30 Im: Saal1 des Sportforums
CLASS:PUBLIC
DTSTART;TZID=Europe/Berlin:20210821T173000
DTEND;TZID=Europe/Berlin:20210821T183000
DTSTAMP:20220616T155037
END:VEVENT
END:VCALENDAR