BEGIN:VCALENDAR
VERSION:2.0
PRODID:https://walddoerfer-sv.de/
BEGIN:VTIMEZONE
TZID:Europe/Berlin
X-LIC-LOCATION:Europe/Berlin
BEGIN:DAYLIGHT
TZOFFSETFROM:+0100
TZOFFSETTO:+0200
TZNAME:CEST
DTSTART:19700329T020000
RRULE:FREQ=YEARLY;BYDAY=-1SU;BYMONTH=3
END:DAYLIGHT
BEGIN:STANDARD
TZOFFSETFROM:+0200
TZOFFSETTO:+0100
TZNAME:CET
DTSTART:19701025T030000
RRULE:FREQ=YEARLY;BYDAY=-1SU;BYMONTH=10
END:STANDARD
END:VTIMEZONE
BEGIN:VEVENT
LOCATION:Walddörfer Sportforum Saal 1
UID:8dfc0351b401d284f79562892b2ce06c@walddoerfer-sv.de
SUMMARY:Kinderdisco Weihnachtsedition
DESCRIPTION:Wir tanzen, bis der Weihnachtsflip kommt. Du kennst den Weihnachtsflip noch nicht? Dann sei dabei und tanze mit ihm gemeinsam.Mit viel Tanz, Spiel und Spaß wollen wir die letzte Woche vor Heilige Abend einläuten. Zur Kinderdisco darf sich natürlich auch ins Partyoutfit geschmissen werden oder in diesem Fall ins Schneeflöckchen, Engelchen oder Rudolph Kostüm.
CLASS:PUBLIC
DTSTART;TZID=Europe/Berlin:20211218T170000
DTEND;TZID=Europe/Berlin:20211218T181500
DTSTAMP:20220616T155036
END:VEVENT
END:VCALENDAR