BEGIN:VCALENDAR
VERSION:2.0
PRODID:https://walddoerfer-sv.de/
BEGIN:VTIMEZONE
TZID:Europe/Berlin
X-LIC-LOCATION:Europe/Berlin
BEGIN:DAYLIGHT
TZOFFSETFROM:+0100
TZOFFSETTO:+0200
TZNAME:CEST
DTSTART:19700329T020000
RRULE:FREQ=YEARLY;BYDAY=-1SU;BYMONTH=3
END:DAYLIGHT
BEGIN:STANDARD
TZOFFSETFROM:+0200
TZOFFSETTO:+0100
TZNAME:CET
DTSTART:19701025T030000
RRULE:FREQ=YEARLY;BYDAY=-1SU;BYMONTH=10
END:STANDARD
END:VTIMEZONE
BEGIN:VEVENT
LOCATION:The Imperial Lasertag Academy
UID:7aecda2eb17e68621fbd1c235fedb35e@walddoerfer-sv.de
SUMMARY:Lasertag 2021- abgesagt
DESCRIPTION:Tauche für 4 Stunden in die einzigartige SciFi-Blockbuster-Kulisse von TILTA ein und schreibe deine eigene Heldengeschichte. Erlebe 90 Minuten geladene Lasertag-Action wie nirgendwo sonst. Die große Auswahl an Taggern, die vielen Spielmodi und die einmalige Atmosphäre werden euch dieses Abenteuer nie vergessen lassen!

    Am: 04.09.
    Beginn: 18 Uhr
    Ab: 16 Jahre
    Kosten: 10€
CLASS:PUBLIC
DTSTART;TZID=Europe/Berlin:20210904T174500
DTEND;TZID=Europe/Berlin:20210904T223000
DTSTAMP:20220616T155037
END:VEVENT
END:VCALENDAR