BEGIN:VCALENDAR
VERSION:2.0
PRODID:https://walddoerfer-sv.de/
BEGIN:VTIMEZONE
TZID:Europe/Berlin
X-LIC-LOCATION:Europe/Berlin
BEGIN:DAYLIGHT
TZOFFSETFROM:+0100
TZOFFSETTO:+0200
TZNAME:CEST
DTSTART:19700329T020000
RRULE:FREQ=YEARLY;BYDAY=-1SU;BYMONTH=3
END:DAYLIGHT
BEGIN:STANDARD
TZOFFSETFROM:+0200
TZOFFSETTO:+0100
TZNAME:CET
DTSTART:19701025T030000
RRULE:FREQ=YEARLY;BYDAY=-1SU;BYMONTH=10
END:STANDARD
END:VTIMEZONE
BEGIN:VEVENT
LOCATION:Sportforum Walddörfer SV Saal 1
UID:8a8cac3a40638447ef74739119f65e42@walddoerfer-sv.de
SUMMARY:Tenniedisco 2022 - wird verschoben
DESCRIPTION:Wir starten das neue Jahr 2022 mit Tanzen! Es heißt: Party, Party, Party!
CLASS:PUBLIC
DTSTART;TZID=Europe/Berlin:20220212T180000
DTEND;TZID=Europe/Berlin:20220212T190000
DTSTAMP:20220616T155036
END:VEVENT
END:VCALENDAR