BEGIN:VCALENDAR
VERSION:2.0
PRODID:https://walddoerfer-sv.de/
BEGIN:VTIMEZONE
TZID:Europe/Berlin
X-LIC-LOCATION:Europe/Berlin
BEGIN:DAYLIGHT
TZOFFSETFROM:+0100
TZOFFSETTO:+0200
TZNAME:CEST
DTSTART:19700329T020000
RRULE:FREQ=YEARLY;BYDAY=-1SU;BYMONTH=3
END:DAYLIGHT
BEGIN:STANDARD
TZOFFSETFROM:+0200
TZOFFSETTO:+0100
TZNAME:CET
DTSTART:19701025T030000
RRULE:FREQ=YEARLY;BYDAY=-1SU;BYMONTH=10
END:STANDARD
END:VTIMEZONE
BEGIN:VEVENT
LOCATION:rabatzz!
UID:2300c2df13299570e339cde4b7ef5b93@walddoerfer-sv.de
SUMMARY:Ü18 - Toben
DESCRIPTION:Dich erwartet: Plumpzz-Die Feuerleiter, Rutschen, Bowling, Kicker, Airhockey, Trampoline, Elektrokarts, Soccerfeld, Twin-Fallzz Freifallrutsche, SkyTrail-Hochseilgarten, Kletterlabyrinth, Rodeo-Bulle, Hüpfburg, Teufelzz-Rad und ein Bällebad zum chillen.
CLASS:PUBLIC
DTSTART;TZID=Europe/Berlin:20230119T191400
DTEND;TZID=Europe/Berlin:20230119T230000
DTSTAMP:20221220T114742
END:VEVENT
END:VCALENDAR