BEGIN:VCALENDAR
VERSION:2.0
PRODID:https://walddoerfer-sv.de/
BEGIN:VTIMEZONE
TZID:Europe/Berlin
X-LIC-LOCATION:Europe/Berlin
BEGIN:DAYLIGHT
TZOFFSETFROM:+0100
TZOFFSETTO:+0200
TZNAME:CEST
DTSTART:19700329T020000
RRULE:FREQ=YEARLY;BYDAY=-1SU;BYMONTH=3
END:DAYLIGHT
BEGIN:STANDARD
TZOFFSETFROM:+0200
TZOFFSETTO:+0100
TZNAME:CET
DTSTART:19701025T030000
RRULE:FREQ=YEARLY;BYDAY=-1SU;BYMONTH=10
END:STANDARD
END:VTIMEZONE
BEGIN:VEVENT
LOCATION:
UID:c10671f588b2b1867a3368f60ce6c2cb@walddoerfer-sv.de
SUMMARY:23. Weihnachtsmarkt im Walddörfer Sportforum
DESCRIPTION:
CLASS:PUBLIC
DTSTART;TZID=Europe/Berlin:20191124T100000
DTEND;TZID=Europe/Berlin:20191124T170000
DTSTAMP:20191001T144138
END:VEVENT
END:VCALENDAR